Workbook

Sheet 名簿
A1: 番号 | B1: 氏名 | C1: よみがな | D1: 性別
A2: 1 | B2: 峯田 小鞠 | C2: みねだ こまり | D2: 女
A3: 2 | B3: 住吉 寛季 | C3: すみよし ひろき | D3: 男
A4: 3 | B4: 足立 高博 | C4: あだち たかひろ | D4: 男
A5: 4 | B5: 八家 美加子 | C5: はつか みかこ | D5: 女
A6: 5 | B6: 竹林 滉河 | C6: たけばやし こうが | D6: 男
A7: 6 | B7: 橘 千耀 | C7: たちばな あき | D7: 女
A8: 7 | B8: 若山 幸弘 | C8: わかやま ゆきひろ | D8: 男
A9: 8 | B9: 福田 茂郎 | C9: ふくだ しげろう | D9: 男
A10: 9 | B10: 宮崎 嘉久蔵 | C10: みやざき かくぞう | D10: 男
A11: 10 | B11: 横江 由紀子 | C11: よこえ ゆきこ | D11: 女
A12: 11 | B12: 青柳 等 | C12: あおやなぎ ひとし | D12: 男
A13: 12 | B13: 黒田 八彦 | C13: くろだ やひこ | D13: 女
... A21: 20 | B21: 沖原 晴子 | C21: おきはら はるこ | D21: 女

Sheet 座席表
B2: 1 | D2: 6 | F2: 11 | H2: 16
B3: =VLOOKUP(座席表!B2,名簿!$A$2:$D$21,2,0) -> 峯田 小鞠 | D3: =VLOOKUP(座席表!D2,名簿!$A$2:$D$21,2,0) -> 橘 千耀 | F3: =VLOOKUP(座席表!F2,名簿!$A$2:$D$21,2,0) -> 青柳 等 | H3: =VLOOKUP(座席表!H2,名簿!$A$2:$D$21,2,0) -> 菅沼 彩代
B4: =VLOOKUP(B2,名簿!$A$2:$D$21,3,0) -> みねだ こまり | D4: =VLOOKUP(D2,名簿!$A$2:$D$21,3,0) -> たちばな あき | F4: =VLOOKUP(F2,名簿!$A$2:$D$21,3,0) -> あおやなぎ ひとし | H4: =VLOOKUP(H2,名簿!$A$2:$D$21,3,0) -> すがぬま あやよ
B6: 2 | D6: 7 | F6: 12 | H6: 17
B7: =VLOOKUP(座席表!B6,名簿!$A$2:$D$21,2,0) -> 住吉 寛季 | D7: =VLOOKUP(座席表!D6,名簿!$A$2:$D$21,2,0) -> 若山 幸弘 | F7: =VLOOKUP(座席表!F6,名簿!$A$2:$D$21,2,0) -> 黒田 八彦 | H7: =VLOOKUP(座席表!H6,名簿!$A$2:$D$21,2,0) -> 坂上 隆子
B8: =VLOOKUP(B6,名簿!$A$2:$D$21,3,0) -> すみよし ひろき | D8: =VLOOKUP(D6,名簿!$A$2:$D$21,3,0) -> わかやま ゆきひろ | F8: =VLOOKUP(F6,名簿!$A$2:$D$21,3,0) -> くろだ やひこ | H8: =VLOOKUP(H6,名簿!$A$2:$D$21,3,0) -> さかがみ たかこ
B10: 3 | D10: 8 | F10: 13 | H10: 18
B11: =VLOOKUP(座席表!B10,名簿!$A$2:$D$21,2,0) -> 足立 高博 | D11: =VLOOKUP(座席表!D10,名簿!$A$2:$D$21,2,0) -> 福田 茂郎 | F11: =VLOOKUP(座席表!F10,名簿!$A$2:$D$21,2,0) -> 高岡 肇 | H11: =VLOOKUP(座席表!H10,名簿!$A$2:$D$21,2,0) -> 小松 五郎蔵
B12: =VLOOKUP(B10,名簿!$A$2:$D$21,3,0) -> あだち たかひろ | D12: =VLOOKUP(D10,名簿!$A$2:$D$21,3,0) -> ふくだ しげろう | F12: =VLOOKUP(F10,名簿!$A$2:$D$21,3,0) -> たかおか はじめ | H12: =VLOOKUP(H10,名簿!$A$2:$D$21,3,0) -> こまつ こうぞう
B14: 4 | D14: 9 | F14: 14 | H14: 19
B15: =VLOOKUP(座席表!B14,名簿!$A$2:$D$21,2,0) -> 八家 美加子 | D15: =VLOOKUP(座席表!D14,名簿!$A$2:$D$21,2,0) -> 宮崎 嘉久蔵 | F15: =VLOOKUP(座席表!F14,名簿!$A$2:$D$21,2,0) -> 川合 寿晴 | H15: =VLOOKUP(座席表!H14,名簿!$A$2:$D$21,2,0) -> 有本 凰聖
B16: =VLOOKUP(B14,名簿!$A$2:$D$21,3,0) -> はつか みかこ | D16: =VLOOKUP(D14,名簿!$A$2:$D$21,3,0) -> みやざき かくぞう | F16: =VLOOKUP(F14,名簿!$A$2:$D$21,3,0) -> かわい としはる | H16: =VLOOKUP(H14,名簿!$A$2:$D$21,3,0) -> ありもと おうせい
B18: 5 | D18: 10 | F18: 15 | H18: 20
B19: =VLOOKUP(座席表!B18,名簿!$A$2:$D$21,2,0) -> 竹林 滉河 | D19: =VLOOKUP(座席表!D18,名簿!$A$2:$D$21,2,0) -> 横江 由紀子 | F19: =VLOOKUP(座席表!F18,名簿!$A$2:$D$21,2,0) -> 関口 左笑子 | H19: =VLOOKUP(座席表!H18,名簿!$A$2:$D$21,2,0) -> 沖原 晴子
B20: =VLOOKUP(B18,名簿!$A$2:$D$21,3,0) -> たけばやし こうが | D20: =VLOOKUP(D18,名簿!$A$2:$D$21,3,0) -> よこえ ゆきこ | F20: =VLOOKUP(F18,名簿!$A$2:$D$21,3,0) -> せきぐち さえこ | H20: =VLOOKUP(H18,名簿!$A$2:$D$21,3,0) -> おきはら はるこ
