Workbook

Sheet 設定
B2: 固定費 | D2: 生活費 | F2: 支払方法 | H2: 固定費の記録
B3: 住宅費 | D3: 食費 | F3: 現金 | H3: 住宅費 | I3: 41000
B4: アパートの家賃 | D4: 食料品 | F4: 楽天カード | H4: 光熱水費 | I4: 9000
B5: 住宅ローン | D5: 外食代 | F5: イオンカード | H5: 通信費 | I5: 16500
B6: マンションの管理費 | D6: 日用品費・日用雑費 | F6: ポイント | H6: 教育費 | I6: 15000
B7: 毎月の駐車場代 | D7: 日用品 | F7: 銀行引き落とし | H7: 保険料 | I7: 20000
B8: 町内会費 | D8: 消耗品 | H8: その他・月額料金 | I8: 0
B9: 光熱水費 | D9: 交際費・レジャー費 | H9: 計 | I9: =SUM(I3:I8) -> 101500
B10: 電気代 | D10: 遊びに使うお金
B11: ガス代 | D11: 外食代・飲み代
B12: 水道代 | D12: 交通費
B13: 通信費 | D13: 電車やバスの運賃
B14: スマホ・携帯電話の料金 | D14: ガソリン代
B15: 固定電話・家電の料金 | D15: 駐車料金
B16: インターネット回線 | D16: 被服費
B17: ポケットwi-fi | D17: 洋服などの購入代金
B18: 教育費 | D18: クリーニング代
B19: 習い事の月謝 | D19: 趣味・娯楽費
B20: 塾の授業料金 | D20: 書籍、CDなど趣味に使うお金
B21: 保険料
B22: 自動車保険
B23: 生命保険
B24: 医療保険
B25: その他・月額料金
B26: 新聞購読料金
B27: 月額サービスの利用料金
B28: NHKの受信料

Sheet 集計
B2: 年間収益
E3: 1月 | F3: ２月 | G3: 3月 | H3: 4月 | I3: 5月 | J3: 6月 | K3: 7月 | L3: 8月 | M3: 9月 | N3: 10月 | O3: 11月 | P3: 12月 | Q3: 年間計
B4: 収入 | D4: =[1]初期設定!B4 -> 夫 | Q4: =IF(SUM(E4:P4)=0,"",SUM(E4:P4))
D5: =[1]初期設定!B5 -> 妻 | Q5: =IF(SUM(E5:P5)=0,"",SUM(E5:P5))
D6: =[1]初期設定!B6 -> 児童手当 | Q6: =IF(SUM(E6:P6)=0,"",SUM(E6:P6))
D7: =[1]初期設定!B7 -> ボーナス | Q7: =IF(SUM(E7:P7)=0,"",SUM(E7:P7))
D8: =[1]初期設定!B8 -> その他 | Q8: =IF(SUM(E8:P8)=0,"",SUM(E8:P8))
D13: 合計 | E13: =SUM(E4:E8) -> 0 | F13: =SUM(F4:F8) -> 0 | G13: =SUM(G4:G8) -> 0 | H13: =SUM(H4:H8) -> 0 | I13: =SUM(I4:I8) -> 0 | J13: =SUM(J4:J8) -> 0 | K13: =SUM(K4:K8) -> 0 | L13: =SUM(L4:L8) -> 0 | ... P13: =SUM(P4:P8) -> 0 | Q13: =IF(SUM(E13:P13)=0,"",SUM(E13:P13))
B14: 支出 | C14: 固定費 | D14: 住宅費 | E14: ='1'!L34 -> 0 | F14: ='2'!L34 -> 0 | G14: ='3'!L34 -> 0 | H14: ='4'!L34 -> 0 | I14: ='5'!L34 -> 0 | J14: ='6'!L34 -> 0 | K14: ='7'!L34 -> 0 | L14: ='8'!L34 -> 0 | M14: ='9'!L34 -> 0 | N14: ='10'!L34 -> 0 | O14: ='11'!L34 -> 0 | P14: ='12'!L34 -> 0 | Q14: =IF(SUM(E14:P14)=0,"",SUM(E14:P14))
D15: 光熱水費 | E15: ='1'!L35 -> 0 | F15: ='2'!L35 -> 0 | G15: ='3'!L35 -> 0 | H15: ='4'!L35 -> 0 | I15: ='5'!L35 -> 0 | J15: ='6'!L35 -> 0 | K15: ='7'!L35 -> 0 | L15: ='8'!L35 -> 0 | M15: ='9'!L35 -> 0 | N15: ='10'!L35 -> 0 | O15: ='11'!L35 -> 0 | P15: ='12'!L35 -> 0 | Q15: =IF(SUM(E15:P15)=0,"",SUM(E15:P15))
D16: 通信費 | E16: ='1'!L36 -> 0 | F16: ='2'!L36 -> 0 | G16: ='3'!L36 -> 0 | H16: ='4'!L36 -> 0 | I16: ='5'!L36 -> 0 | J16: ='6'!L36 -> 0 | K16: ='7'!L36 -> 0 | L16: ='8'!L36 -> 0 | M16: ='9'!L36 -> 0 | N16: ='10'!L36 -> 0 | O16: ='11'!L36 -> 0 | P16: ='12'!L36 -> 0 | Q16: =IF(SUM(E16:P16)=0,"",SUM(E16:P16))
D17: 教育費 | E17: ='1'!L37 -> 0 | F17: ='2'!L37 -> 0 | G17: ='3'!L37 -> 0 | H17: ='4'!L37 -> 0 | I17: ='5'!L37 -> 0 | J17: ='6'!L37 -> 0 | K17: ='7'!L37 -> 0 | L17: ='8'!L37 -> 0 | M17: ='9'!L37 -> 0 | N17: ='10'!L37 -> 0 | O17: ='11'!L37 -> 0 | P17: ='12'!L37 -> 0 | Q17: =IF(SUM(E17:P17)=0,"",SUM(E17:P17))
D18: 保険料 | E18: ='1'!L38 -> 0 | F18: ='2'!L38 -> 0 | G18: ='3'!L38 -> 0 | H18: ='4'!L38 -> 0 | I18: ='5'!L38 -> 0 | J18: ='6'!L38 -> 0 | K18: ='7'!L38 -> 0 | L18: ='8'!L38 -> 0 | M18: ='9'!L38 -> 0 | N18: ='10'!L38 -> 0 | O18: ='11'!L38 -> 0 | P18: ='12'!L38 -> 0 | Q18: =IF(SUM(E18:P18)=0,"",SUM(E18:P18))
D19: その他・月額料金 | E19: ='1'!L39 -> 0 | F19: ='2'!L39 -> 0 | G19: ='3'!L39 -> 0 | H19: ='4'!L39 -> 0 | I19: ='5'!L39 -> 0 | J19: ='6'!L39 -> 0 | K19: ='7'!L39 -> 0 | L19: ='8'!L39 -> 0 | M19: ='9'!L39 -> 0 | N19: ='10'!L39 -> 0 | O19: ='11'!L39 -> 0 | P19: ='12'!L39 -> 0 | Q19: =IF(SUM(E19:P19)=0,"",SUM(E19:P19))
D20: 合計 | E20: =SUM(E14:E19) -> 0 | F20: =SUM(F14:F19) -> 0 | G20: =SUM(G14:G19) -> 0 | H20: =SUM(H14:H19) -> 0 | I20: =SUM(I14:I19) -> 0 | J20: =SUM(J14:J19) -> 0 | K20: =SUM(K14:K19) -> 0 | L20: =SUM(L14:L19) -> 0 | ... P20: =SUM(P14:P19) -> 0 | Q20: =IF(SUM(E20:P20)=0,"",SUM(E20:P20))
C21: 変動費 | D21: 食費 | E21: ='1'!L44 -> 0 | F21: ='2'!L44 -> 0 | G21: ='3'!L44 -> 0 | H21: ='4'!L44 -> 0 | I21: ='5'!L44 -> 0 | J21: ='6'!L44 -> 0 | K21: ='7'!L44 -> 0 | L21: ='8'!L44 -> 0 | M21: ='9'!L44 -> 0 | N21: ='10'!L44 -> 0 | O21: ='11'!L44 -> 0 | P21: ='12'!L44 -> 0 | Q21: =IF(SUM(E21:P21)=0,"",SUM(E21:P21))
D22: 日用品費・日用雑費 | E22: ='1'!L45 -> 0 | F22: ='2'!L45 -> 0 | G22: ='3'!L45 -> 0 | H22: ='4'!L45 -> 0 | I22: ='5'!L45 -> 0 | J22: ='6'!L45 -> 0 | K22: ='7'!L45 -> 0 | L22: ='8'!L45 -> 0 | M22: ='9'!L45 -> 0 | N22: ='10'!L45 -> 0 | O22: ='11'!L45 -> 0 | P22: ='12'!L45 -> 0 | Q22: =IF(SUM(E22:P22)=0,"",SUM(E22:P22))
D23: 交際費・レジャー費 | E23: ='1'!L46 -> 0 | F23: ='2'!L46 -> 0 | G23: ='3'!L46 -> 0 | H23: ='4'!L46 -> 0 | I23: ='5'!L46 -> 0 | J23: ='6'!L46 -> 0 | K23: ='7'!L46 -> 0 | L23: ='8'!L46 -> 0 | M23: ='9'!L46 -> 0 | N23: ='10'!L46 -> 0 | O23: ='11'!L46 -> 0 | P23: ='12'!L46 -> 0 | Q23: =IF(SUM(E23:P23)=0,"",SUM(E23:P23))
D24: 交通費 | E24: ='1'!L47 -> 0 | F24: ='2'!L47 -> 0 | G24: ='3'!L47 -> 0 | H24: ='4'!L47 -> 0 | I24: ='5'!L47 -> 0 | J24: ='6'!L47 -> 0 | K24: ='7'!L47 -> 0 | L24: ='8'!L47 -> 0 | M24: ='9'!L47 -> 0 | N24: ='10'!L47 -> 0 | O24: ='11'!L47 -> 0 | P24: ='12'!L47 -> 0 | Q24: =IF(SUM(E24:P24)=0,"",SUM(E24:P24))
D25: 医療費 | E25: ='1'!L48 -> 0 | F25: ='2'!L48 -> 0 | G25: ='3'!L48 -> 0 | H25: ='4'!L48 -> 0 | I25: ='5'!L48 -> 0 | J25: ='6'!L48 -> 0 | K25: ='7'!L48 -> 0 | L25: ='8'!L48 -> 0 | M25: ='9'!L48 -> 0 | N25: ='10'!L48 -> 0 | O25: ='11'!L48 -> 0 | P25: ='12'!L48 -> 0
D26: 被服費 | E26: ='1'!L49 -> 0 | F26: ='2'!L49 -> 0 | G26: ='3'!L49 -> 0 | H26: ='4'!L49 -> 0 | I26: ='5'!L49 -> 0 | J26: ='6'!L49 -> 0 | K26: ='7'!L49 -> 0 | L26: ='8'!L49 -> 0 | M26: ='9'!L49 -> 0 | N26: ='10'!L49 -> 0 | O26: ='11'!L49 -> 0 | P26: ='12'!L49 -> 0 | Q26: =IF(SUM(E26:P26)=0,"",SUM(E26:P26))
D27: 趣味・娯楽費 | E27: ='1'!L50 -> 0 | F27: ='2'!L50 -> 0 | G27: ='3'!L50 -> 0 | H27: ='4'!L50 -> 0 | I27: ='5'!L50 -> 0 | J27: ='6'!L50 -> 0 | K27: ='7'!L50 -> 0 | L27: ='8'!L50 -> 0 | M27: ='9'!L50 -> 0 | N27: ='10'!L50 -> 0 | O27: ='11'!L50 -> 0 | P27: ='12'!L50 -> 0 | Q27: =IF(SUM(E27:P27)=0,"",SUM(E27:P27))
D28: 合計 | E28: =SUM(E21:E27) -> 0 | F28: =SUM(F21:F27) -> 0 | G28: =SUM(G21:G27) -> 0 | H28: =SUM(H21:H27) -> 0 | I28: =SUM(I21:I27) -> 0 | J28: =SUM(J21:J27) -> 0 | K28: =SUM(K21:K27) -> 0 | L28: =SUM(L21:L27) -> 0 | ... P28: =SUM(P21:P27) -> 0 | Q28: =IF(SUM(E28:P28)=0,"",SUM(E28:P28))
D29: 支出計 | E29: =E20+E28 -> 0 | F29: =F20+F28 -> 0 | G29: =G20+G28 -> 0 | H29: =H20+H28 -> 0 | I29: =I20+I28 -> 0 | J29: =J20+J28 -> 0 | K29: =K20+K28 -> 0 | L29: =L20+L28 -> 0 | ... P29: =P20+P28 -> 0

Sheet 1
A1: 2021 | B1: 年 | C1: 1 | D1: 月 | E1: =DATE(A1,C1,1) -> 44197 | F1: =WEEKDAY(E1,1) -> 6
A2: 日 | B2: 月 | C2: 火 | D2: 水 | E2: 木 | F2: 金 | G2: 土
A3: =E1-(F1-1) -> 44192 | B3: =A3+1 -> 44193 | C3: =B3+1 -> 44194 | D3: =C3+1 -> 44195 | E3: =D3+1 -> 44196 | F3: =E3+1 -> 44197 | G3: =F3+1 -> 44198
A5: =G3+1 -> 44199 | B5: =A5+1 -> 44200 | C5: =B5+1 -> 44201 | D5: =C5+1 -> 44202 | E5: =D5+1 -> 44203 | F5: =E5+1 -> 44204 | G5: =F5+1 -> 44205
A7: =G5+1 -> 44206 | B7: =A7+1 -> 44207 | C7: =B7+1 -> 44208 | D7: =C7+1 -> 44209 | E7: =D7+1 -> 44210 | F7: =E7+1 -> 44211 | G7: =F7+1 -> 44212
A9: =G7+1 -> 44213 | B9: =A9+1 -> 44214 | C9: =B9+1 -> 44215 | D9: =C9+1 -> 44216 | E9: =D9+1 -> 44217 | F9: =E9+1 -> 44218 | G9: =F9+1 -> 44219
A11: =G9+1 -> 44220 | B11: =A11+1 -> 44221 | C11: =B11+1 -> 44222 | D11: =C11+1 -> 44223 | E11: =D11+1 -> 44224 | F11: =E11+1 -> 44225 | G11: =F11+1 -> 44226
G14: 1
G15: 2
G16: 3
G17: 4
G18: 5
G19: 6
G20: 7
G21: 8
G22: 9
G23: 10
G24: 11
G25: 12
A29: 日々の記録
A31: 日付 | B31: 項目 | C31: 金額 | D31: 支払方法 | E31: カード請求 | F31: 状況
K32: 固定費 | N32: 住宅費
K33: 項目 | L33: 金額 | N33: 光熱水費
K34: 住宅費 | L34: =SUMIF($B$32:$C$128,K34,$C$32:$C$128) -> 0 | N34: 通信費
K35: 光熱水費 | L35: =SUMIF($B$32:$C$128,K35,$C$32:$C$128) -> 0 | N35: 教育費
K36: 通信費 | L36: =SUMIF($B$32:$C$128,K36,$C$32:$C$128) -> 0 | N36: 保険料
K37: 教育費 | L37: =SUMIF($B$32:$C$128,K37,$C$32:$C$128) -> 0 | N37: その他・月額料金
K38: 保険料 | L38: =SUMIF($B$32:$C$128,K38,$C$32:$C$128) -> 0 | N38: 食費
K39: その他・月額料金 | L39: =SUMIF($B$32:$C$128,K39,$C$32:$C$128) -> 0 | N39: 日用品費・日用雑費
K40: 合計 | L40: =SUM(L34:L39) -> 0 | N40: 交際費・レジャー費
N41: 交通費
K42: 変動費 | N42: 医療費
K43: 項目 | L43: 金額 | N43: 被服費
K44: 食費 | L44: =SUMIF($B$32:$G$128,K44,$C$32:$C$128) -> 0 | N44: 趣味・娯楽費
K45: 日用品費・日用雑費 | L45: =SUMIF($B$32:$G$128,K45,$C$32:$C$128) -> 0
K46: 交際費・レジャー費 | L46: =SUMIF($B$32:$G$128,K46,$C$32:$C$128) -> 0
K47: 交通費 | L47: =SUMIF($B$32:$G$128,K47,$C$32:$C$128) -> 0
K48: 医療費 | L48: =SUMIF($B$32:$G$128,K48,$C$32:$C$128) -> 0
K49: 被服費 | L49: =SUMIF($B$32:$G$128,K49,$C$32:$C$128) -> 0
K50: 趣味・娯楽費 | L50: =SUMIF($B$32:$G$128,K50,$C$32:$C$128) -> 0
...

Sheet 2
A1: 2021 | B1: 年 | C1: 2 | D1: 月 | E1: =DATE(A1,C1,1) -> 44228 | F1: =WEEKDAY(E1,1) -> 2
A2: 日 | B2: 月 | C2: 火 | D2: 水 | E2: 木 | F2: 金 | G2: 土
A3: =E1-(F1-1) -> 44227 | B3: =A3+1 -> 44228 | C3: =B3+1 -> 44229 | D3: =C3+1 -> 44230 | E3: =D3+1 -> 44231 | F3: =E3+1 -> 44232 | G3: =F3+1 -> 44233
A5: =G3+1 -> 44234 | B5: =A5+1 -> 44235 | C5: =B5+1 -> 44236 | D5: =C5+1 -> 44237 | E5: =D5+1 -> 44238 | F5: =E5+1 -> 44239 | G5: =F5+1 -> 44240
A7: =G5+1 -> 44241 | B7: =A7+1 -> 44242 | C7: =B7+1 -> 44243 | D7: =C7+1 -> 44244 | E7: =D7+1 -> 44245 | F7: =E7+1 -> 44246 | G7: =F7+1 -> 44247
A9: =G7+1 -> 44248 | B9: =A9+1 -> 44249 | C9: =B9+1 -> 44250 | D9: =C9+1 -> 44251 | E9: =D9+1 -> 44252 | F9: =E9+1 -> 44253 | G9: =F9+1 -> 44254
A11: =G9+1 -> 44255 | B11: =A11+1 -> 44256 | C11: =B11+1 -> 44257 | D11: =C11+1 -> 44258 | E11: =D11+1 -> 44259 | F11: =E11+1 -> 44260 | G11: =F11+1 -> 44261
G14: 1
G15: 2
G16: 3
G17: 4
G18: 5
G19: 6
G20: 7
G21: 8
G22: 9
G23: 10
G24: 11
G25: 12
A29: 日々の記録
A31: 日付 | B31: 項目 | C31: 金額 | D31: 支払方法 | E31: カード請求 | F31: 状況
K32: 固定費 | N32: 住宅費
K33: 項目 | L33: 金額 | N33: 光熱水費
K34: 住宅費 | L34: =SUMIF($B$32:$C$128,K34,$C$32:$C$128) -> 0 | N34: 通信費
K35: 光熱水費 | L35: =SUMIF($B$32:$C$128,K35,$C$32:$C$128) -> 0 | N35: 教育費
K36: 通信費 | L36: =SUMIF($B$32:$C$128,K36,$C$32:$C$128) -> 0 | N36: 保険料
K37: 教育費 | L37: =SUMIF($B$32:$C$128,K37,$C$32:$C$128) -> 0 | N37: その他・月額料金
K38: 保険料 | L38: =SUMIF($B$32:$C$128,K38,$C$32:$C$128) -> 0 | N38: 食費
K39: その他・月額料金 | L39: =SUMIF($B$32:$C$128,K39,$C$32:$C$128) -> 0 | N39: 日用品費・日用雑費
K40: 合計 | L40: =SUM(L34:L39) -> 0 | N40: 交際費・レジャー費
N41: 交通費
K42: 変動費 | N42: 医療費
K43: 項目 | L43: 金額 | N43: 被服費
K44: 食費 | L44: =SUMIF($B$32:$G$128,K44,$C$32:$C$128) -> 0 | N44: 趣味・娯楽費
K45: 日用品費・日用雑費 | L45: =SUMIF($B$32:$G$128,K45,$C$32:$C$128) -> 0
K46: 交際費・レジャー費 | L46: =SUMIF($B$32:$G$128,K46,$C$32:$C$128) -> 0
K47: 交通費 | L47: =SUMIF($B$32:$G$128,K47,$C$32:$C$128) -> 0
K48: 医療費 | L48: =SUMIF($B$32:$G$128,K48,$C$32:$C$128) -> 0
K49: 被服費 | L49: =SUMIF($B$32:$G$128,K49,$C$32:$C$128) -> 0
K50: 趣味・娯楽費 | L50: =SUMIF($B$32:$G$128,K50,$C$32:$C$128) -> 0
...

Sheet 3
A1: 2021 | B1: 年 | C1: 3 | D1: 月 | E1: =DATE(A1,C1,1) -> 44256 | F1: =WEEKDAY(E1,1) -> 2
A2: 日 | B2: 月 | C2: 火 | D2: 水 | E2: 木 | F2: 金 | G2: 土
A3: =E1-(F1-1) -> 44255 | B3: =A3+1 -> 44256 | C3: =B3+1 -> 44257 | D3: =C3+1 -> 44258 | E3: =D3+1 -> 44259 | F3: =E3+1 -> 44260 | G3: =F3+1 -> 44261
A5: =G3+1 -> 44262 | B5: =A5+1 -> 44263 | C5: =B5+1 -> 44264 | D5: =C5+1 -> 44265 | E5: =D5+1 -> 44266 | F5: =E5+1 -> 44267 | G5: =F5+1 -> 44268
A7: =G5+1 -> 44269 | B7: =A7+1 -> 44270 | C7: =B7+1 -> 44271 | D7: =C7+1 -> 44272 | E7: =D7+1 -> 44273 | F7: =E7+1 -> 44274 | G7: =F7+1 -> 44275
A9: =G7+1 -> 44276 | B9: =A9+1 -> 44277 | C9: =B9+1 -> 44278 | D9: =C9+1 -> 44279 | E9: =D9+1 -> 44280 | F9: =E9+1 -> 44281 | G9: =F9+1 -> 44282
A11: =G9+1 -> 44283 | B11: =A11+1 -> 44284 | C11: =B11+1 -> 44285 | D11: =C11+1 -> 44286 | E11: =D11+1 -> 44287 | F11: =E11+1 -> 44288 | G11: =F11+1 -> 44289
G14: 1
G15: 2
G16: 3
G17: 4
G18: 5
G19: 6
G20: 7
G21: 8
G22: 9
G23: 10
G24: 11
G25: 12
A29: 日々の記録
A31: 日付 | B31: 項目 | C31: 金額 | D31: 支払方法 | E31: カード請求 | F31: 状況
K32: 固定費 | N32: 住宅費
K33: 項目 | L33: 金額 | N33: 光熱水費
K34: 住宅費 | L34: =SUMIF($B$32:$C$128,K34,$C$32:$C$128) -> 0 | N34: 通信費
K35: 光熱水費 | L35: =SUMIF($B$32:$C$128,K35,$C$32:$C$128) -> 0 | N35: 教育費
K36: 通信費 | L36: =SUMIF($B$32:$C$128,K36,$C$32:$C$128) -> 0 | N36: 保険料
K37: 教育費 | L37: =SUMIF($B$32:$C$128,K37,$C$32:$C$128) -> 0 | N37: その他・月額料金
K38: 保険料 | L38: =SUMIF($B$32:$C$128,K38,$C$32:$C$128) -> 0 | N38: 食費
K39: その他・月額料金 | L39: =SUMIF($B$32:$C$128,K39,$C$32:$C$128) -> 0 | N39: 日用品費・日用雑費
K40: 合計 | L40: =SUM(L34:L39) -> 0 | N40: 交際費・レジャー費
N41: 交通費
K42: 変動費 | N42: 医療費
K43: 項目 | L43: 金額 | N43: 被服費
K44: 食費 | L44: =SUMIF($B$32:$G$128,K44,$C$32:$C$128) -> 0 | N44: 趣味・娯楽費
K45: 日用品費・日用雑費 | L45: =SUMIF($B$32:$G$128,K45,$C$32:$C$128) -> 0
K46: 交際費・レジャー費 | L46: =SUMIF($B$32:$G$128,K46,$C$32:$C$128) -> 0
K47: 交通費 | L47: =SUMIF($B$32:$G$128,K47,$C$32:$C$128) -> 0
K48: 医療費 | L48: =SUMIF($B$32:$G$128,K48,$C$32:$C$128) -> 0
K49: 被服費 | L49: =SUMIF($B$32:$G$128,K49,$C$32:$C$128) -> 0
K50: 趣味・娯楽費 | L50: =SUMIF($B$32:$G$128,K50,$C$32:$C$128) -> 0
...

Sheet 4
A1: 2021 | B1: 年 | C1: 4 | D1: 月 | E1: =DATE(A1,C1,1) -> 44287 | F1: =WEEKDAY(E1,1) -> 5
A2: 日 | B2: 月 | C2: 火 | D2: 水 | E2: 木 | F2: 金 | G2: 土
A3: =E1-(F1-1) -> 44283 | B3: =A3+1 -> 44284 | C3: =B3+1 -> 44285 | D3: =C3+1 -> 44286 | E3: =D3+1 -> 44287 | F3: =E3+1 -> 44288 | G3: =F3+1 -> 44289
A5: =G3+1 -> 44290 | B5: =A5+1 -> 44291 | C5: =B5+1 -> 44292 | D5: =C5+1 -> 44293 | E5: =D5+1 -> 44294 | F5: =E5+1 -> 44295 | G5: =F5+1 -> 44296
A7: =G5+1 -> 44297 | B7: =A7+1 -> 44298 | C7: =B7+1 -> 44299 | D7: =C7+1 -> 44300 | E7: =D7+1 -> 44301 | F7: =E7+1 -> 44302 | G7: =F7+1 -> 44303
A9: =G7+1 -> 44304 | B9: =A9+1 -> 44305 | C9: =B9+1 -> 44306 | D9: =C9+1 -> 44307 | E9: =D9+1 -> 44308 | F9: =E9+1 -> 44309 | G9: =F9+1 -> 44310
A11: =G9+1 -> 44311 | B11: =A11+1 -> 44312 | C11: =B11+1 -> 44313 | D11: =C11+1 -> 44314 | E11: =D11+1 -> 44315 | F11: =E11+1 -> 44316 | G11: =F11+1 -> 44317
G14: 1
G15: 2
G16: 3
G17: 4
G18: 5
G19: 6
G20: 7
G21: 8
G22: 9
G23: 10
G24: 11
G25: 12
A29: 日々の記録
A31: 日付 | B31: 項目 | C31: 金額 | D31: 支払方法 | E31: カード請求 | F31: 状況
K32: 固定費 | N32: 住宅費
K33: 項目 | L33: 金額 | N33: 光熱水費
K34: 住宅費 | L34: =SUMIF($B$32:$C$128,K34,$C$32:$C$128) -> 0 | N34: 通信費
K35: 光熱水費 | L35: =SUMIF($B$32:$C$128,K35,$C$32:$C$128) -> 0 | N35: 教育費
K36: 通信費 | L36: =SUMIF($B$32:$C$128,K36,$C$32:$C$128) -> 0 | N36: 保険料
K37: 教育費 | L37: =SUMIF($B$32:$C$128,K37,$C$32:$C$128) -> 0 | N37: その他・月額料金
K38: 保険料 | L38: =SUMIF($B$32:$C$128,K38,$C$32:$C$128) -> 0 | N38: 食費
K39: その他・月額料金 | L39: =SUMIF($B$32:$C$128,K39,$C$32:$C$128) -> 0 | N39: 日用品費・日用雑費
K40: 合計 | L40: =SUM(L34:L39) -> 0 | N40: 交際費・レジャー費
N41: 交通費
K42: 変動費 | N42: 医療費
K43: 項目 | L43: 金額 | N43: 被服費
K44: 食費 | L44: =SUMIF($B$32:$G$128,K44,$C$32:$C$128) -> 0 | N44: 趣味・娯楽費
K45: 日用品費・日用雑費 | L45: =SUMIF($B$32:$G$128,K45,$C$32:$C$128) -> 0
K46: 交際費・レジャー費 | L46: =SUMIF($B$32:$G$128,K46,$C$32:$C$128) -> 0
K47: 交通費 | L47: =SUMIF($B$32:$G$128,K47,$C$32:$C$128) -> 0
K48: 医療費 | L48: =SUMIF($B$32:$G$128,K48,$C$32:$C$128) -> 0
K49: 被服費 | L49: =SUMIF($B$32:$G$128,K49,$C$32:$C$128) -> 0
K50: 趣味・娯楽費 | L50: =SUMIF($B$32:$G$128,K50,$C$32:$C$128) -> 0
...

Sheet 5
A1: 2021 | B1: 年 | C1: 5 | D1: 月 | E1: =DATE(A1,C1,1) -> 44317 | F1: =WEEKDAY(E1,1) -> 7
A2: 日 | B2: 月 | C2: 火 | D2: 水 | E2: 木 | F2: 金 | G2: 土
A3: =E1-(F1-1) -> 44311 | B3: =A3+1 -> 44312 | C3: =B3+1 -> 44313 | D3: =C3+1 -> 44314 | E3: =D3+1 -> 44315 | F3: =E3+1 -> 44316 | G3: =F3+1 -> 44317
A5: =G3+1 -> 44318 | B5: =A5+1 -> 44319 | C5: =B5+1 -> 44320 | D5: =C5+1 -> 44321 | E5: =D5+1 -> 44322 | F5: =E5+1 -> 44323 | G5: =F5+1 -> 44324
A7: =G5+1 -> 44325 | B7: =A7+1 -> 44326 | C7: =B7+1 -> 44327 | D7: =C7+1 -> 44328 | E7: =D7+1 -> 44329 | F7: =E7+1 -> 44330 | G7: =F7+1 -> 44331
A9: =G7+1 -> 44332 | B9: =A9+1 -> 44333 | C9: =B9+1 -> 44334 | D9: =C9+1 -> 44335 | E9: =D9+1 -> 44336 | F9: =E9+1 -> 44337 | G9: =F9+1 -> 44338
A11: =G9+1 -> 44339 | B11: =A11+1 -> 44340 | C11: =B11+1 -> 44341 | D11: =C11+1 -> 44342 | E11: =D11+1 -> 44343 | F11: =E11+1 -> 44344 | G11: =F11+1 -> 44345
G14: 1
G15: 2
G16: 3
G17: 4
G18: 5
G19: 6
G20: 7
G21: 8
G22: 9
G23: 10
G24: 11
G25: 12
A29: 日々の記録
A31: 日付 | B31: 項目 | C31: 金額 | D31: 支払方法 | E31: カード請求 | F31: 状況
K32: 固定費 | N32: 住宅費
K33: 項目 | L33: 金額 | N33: 光熱水費
K34: 住宅費 | L34: =SUMIF($B$32:$C$128,K34,$C$32:$C$128) -> 0 | N34: 通信費
K35: 光熱水費 | L35: =SUMIF($B$32:$C$128,K35,$C$32:$C$128) -> 0 | N35: 教育費
K36: 通信費 | L36: =SUMIF($B$32:$C$128,K36,$C$32:$C$128) -> 0 | N36: 保険料
K37: 教育費 | L37: =SUMIF($B$32:$C$128,K37,$C$32:$C$128) -> 0 | N37: その他・月額料金
K38: 保険料 | L38: =SUMIF($B$32:$C$128,K38,$C$32:$C$128) -> 0 | N38: 食費
K39: その他・月額料金 | L39: =SUMIF($B$32:$C$128,K39,$C$32:$C$128) -> 0 | N39: 日用品費・日用雑費
K40: 合計 | L40: =SUM(L34:L39) -> 0 | N40: 交際費・レジャー費
N41: 交通費
K42: 変動費 | N42: 医療費
K43: 項目 | L43: 金額 | N43: 被服費
K44: 食費 | L44: =SUMIF($B$32:$G$128,K44,$C$32:$C$128) -> 0 | N44: 趣味・娯楽費
K45: 日用品費・日用雑費 | L45: =SUMIF($B$32:$G$128,K45,$C$32:$C$128) -> 0
K46: 交際費・レジャー費 | L46: =SUMIF($B$32:$G$128,K46,$C$32:$C$128) -> 0
K47: 交通費 | L47: =SUMIF($B$32:$G$128,K47,$C$32:$C$128) -> 0
K48: 医療費 | L48: =SUMIF($B$32:$G$128,K48,$C$32:$C$128) -> 0
K49: 被服費 | L49: =SUMIF($B$32:$G$128,K49,$C$32:$C$128) -> 0
K50: 趣味・娯楽費 | L50: =SUMIF($B$32:$G$128,K50,$C$32:$C$128) -> 0
...

Sheet 6
A1: 2021 | B1: 年 | C1: 6 | D1: 月 | E1: =DATE(A1,C1,1) -> 44348 | F1: =WEEKDAY(E1,1) -> 3
A2: 日 | B2: 月 | C2: 火 | D2: 水 | E2: 木 | F2: 金 | G2: 土
A3: =E1-(F1-1) -> 44346 | B3: =A3+1 -> 44347 | C3: =B3+1 -> 44348 | D3: =C3+1 -> 44349 | E3: =D3+1 -> 44350 | F3: =E3+1 -> 44351 | G3: =F3+1 -> 44352
A5: =G3+1 -> 44353 | B5: =A5+1 -> 44354 | C5: =B5+1 -> 44355 | D5: =C5+1 -> 44356 | E5: =D5+1 -> 44357 | F5: =E5+1 -> 44358 | G5: =F5+1 -> 44359
A7: =G5+1 -> 44360 | B7: =A7+1 -> 44361 | C7: =B7+1 -> 44362 | D7: =C7+1 -> 44363 | E7: =D7+1 -> 44364 | F7: =E7+1 -> 44365 | G7: =F7+1 -> 44366
A9: =G7+1 -> 44367 | B9: =A9+1 -> 44368 | C9: =B9+1 -> 44369 | D9: =C9+1 -> 44370 | E9: =D9+1 -> 44371 | F9: =E9+1 -> 44372 | G9: =F9+1 -> 44373
A11: =G9+1 -> 44374 | B11: =A11+1 -> 44375 | C11: =B11+1 -> 44376 | D11: =C11+1 -> 44377 | E11: =D11+1 -> 44378 | F11: =E11+1 -> 44379 | G11: =F11+1 -> 44380
G14: 1
G15: 2
G16: 3
G17: 4
G18: 5
G19: 6
G20: 7
G21: 8
G22: 9
G23: 10
G24: 11
G25: 12
A29: 日々の記録
A31: 日付 | B31: 項目 | C31: 金額 | D31: 支払方法 | E31: カード請求 | F31: 状況
K32: 固定費 | N32: 住宅費
K33: 項目 | L33: 金額 | N33: 光熱水費
K34: 住宅費 | L34: =SUMIF($B$32:$C$128,K34,$C$32:$C$128) -> 0 | N34: 通信費
K35: 光熱水費 | L35: =SUMIF($B$32:$C$128,K35,$C$32:$C$128) -> 0 | N35: 教育費
K36: 通信費 | L36: =SUMIF($B$32:$C$128,K36,$C$32:$C$128) -> 0 | N36: 保険料
K37: 教育費 | L37: =SUMIF($B$32:$C$128,K37,$C$32:$C$128) -> 0 | N37: その他・月額料金
K38: 保険料 | L38: =SUMIF($B$32:$C$128,K38,$C$32:$C$128) -> 0 | N38: 食費
K39: その他・月額料金 | L39: =SUMIF($B$32:$C$128,K39,$C$32:$C$128) -> 0 | N39: 日用品費・日用雑費
K40: 合計 | L40: =SUM(L34:L39) -> 0 | N40: 交際費・レジャー費
N41: 交通費
K42: 変動費 | N42: 医療費
K43: 項目 | L43: 金額 | N43: 被服費
K44: 食費 | L44: =SUMIF($B$32:$G$128,K44,$C$32:$C$128) -> 0 | N44: 趣味・娯楽費
K45: 日用品費・日用雑費 | L45: =SUMIF($B$32:$G$128,K45,$C$32:$C$128) -> 0
K46: 交際費・レジャー費 | L46: =SUMIF($B$32:$G$128,K46,$C$32:$C$128) -> 0
K47: 交通費 | L47: =SUMIF($B$32:$G$128,K47,$C$32:$C$128) -> 0
K48: 医療費 | L48: =SUMIF($B$32:$G$128,K48,$C$32:$C$128) -> 0
K49: 被服費 | L49: =SUMIF($B$32:$G$128,K49,$C$32:$C$128) -> 0
K50: 趣味・娯楽費 | L50: =SUMIF($B$32:$G$128,K50,$C$32:$C$128) -> 0
...

Sheet 7
A1: 2021 | B1: 年 | C1: 7 | D1: 月 | E1: =DATE(A1,C1,1) -> 44378 | F1: =WEEKDAY(E1,1) -> 5
A2: 日 | B2: 月 | C2: 火 | D2: 水 | E2: 木 | F2: 金 | G2: 土
A3: =E1-(F1-1) -> 44374 | B3: =A3+1 -> 44375 | C3: =B3+1 -> 44376 | D3: =C3+1 -> 44377 | E3: =D3+1 -> 44378 | F3: =E3+1 -> 44379 | G3: =F3+1 -> 44380
A5: =G3+1 -> 44381 | B5: =A5+1 -> 44382 | C5: =B5+1 -> 44383 | D5: =C5+1 -> 44384 | E5: =D5+1 -> 44385 | F5: =E5+1 -> 44386 | G5: =F5+1 -> 44387
A7: =G5+1 -> 44388 | B7: =A7+1 -> 44389 | C7: =B7+1 -> 44390 | D7: =C7+1 -> 44391 | E7: =D7+1 -> 44392 | F7: =E7+1 -> 44393 | G7: =F7+1 -> 44394
A9: =G7+1 -> 44395 | B9: =A9+1 -> 44396 | C9: =B9+1 -> 44397 | D9: =C9+1 -> 44398 | E9: =D9+1 -> 44399 | F9: =E9+1 -> 44400 | G9: =F9+1 -> 44401
A11: =G9+1 -> 44402 | B11: =A11+1 -> 44403 | C11: =B11+1 -> 44404 | D11: =C11+1 -> 44405 | E11: =D11+1 -> 44406 | F11: =E11+1 -> 44407 | G11: =F11+1 -> 44408
G14: 1
G15: 2
G16: 3
G17: 4
G18: 5
G19: 6
G20: 7
G21: 8
G22: 9
G23: 10
G24: 11
G25: 12
A29: 日々の記録
A31: 日付 | B31: 項目 | C31: 金額 | D31: 支払方法 | E31: カード請求 | F31: 状況
K32: 固定費 | N32: 住宅費
K33: 項目 | L33: 金額 | N33: 光熱水費
K34: 住宅費 | L34: =SUMIF($B$32:$C$128,K34,$C$32:$C$128) -> 0 | N34: 通信費
K35: 光熱水費 | L35: =SUMIF($B$32:$C$128,K35,$C$32:$C$128) -> 0 | N35: 教育費
K36: 通信費 | L36: =SUMIF($B$32:$C$128,K36,$C$32:$C$128) -> 0 | N36: 保険料
K37: 教育費 | L37: =SUMIF($B$32:$C$128,K37,$C$32:$C$128) -> 0 | N37: その他・月額料金
K38: 保険料 | L38: =SUMIF($B$32:$C$128,K38,$C$32:$C$128) -> 0 | N38: 食費
K39: その他・月額料金 | L39: =SUMIF($B$32:$C$128,K39,$C$32:$C$128) -> 0 | N39: 日用品費・日用雑費
K40: 合計 | L40: =SUM(L34:L39) -> 0 | N40: 交際費・レジャー費
N41: 交通費
K42: 変動費 | N42: 医療費
K43: 項目 | L43: 金額 | N43: 被服費
K44: 食費 | L44: =SUMIF($B$32:$G$128,K44,$C$32:$C$128) -> 0 | N44: 趣味・娯楽費
K45: 日用品費・日用雑費 | L45: =SUMIF($B$32:$G$128,K45,$C$32:$C$128) -> 0
K46: 交際費・レジャー費 | L46: =SUMIF($B$32:$G$128,K46,$C$32:$C$128) -> 0
K47: 交通費 | L47: =SUMIF($B$32:$G$128,K47,$C$32:$C$128) -> 0
K48: 医療費 | L48: =SUMIF($B$32:$G$128,K48,$C$32:$C$128) -> 0
K49: 被服費 | L49: =SUMIF($B$32:$G$128,K49,$C$32:$C$128) -> 0
K50: 趣味・娯楽費 | L50: =SUMIF($B$32:$G$128,K50,$C$32:$C$128) -> 0
...

Sheet 8
A1: 2021 | B1: 年 | C1: 8 | D1: 月 | E1: =DATE(A1,C1,1) -> 44409 | F1: =WEEKDAY(E1,1) -> 1
A2: 日 | B2: 月 | C2: 火 | D2: 水 | E2: 木 | F2: 金 | G2: 土
A3: =E1-(F1-1) -> 44409 | B3: =A3+1 -> 44410 | C3: =B3+1 -> 44411 | D3: =C3+1 -> 44412 | E3: =D3+1 -> 44413 | F3: =E3+1 -> 44414 | G3: =F3+1 -> 44415
A5: =G3+1 -> 44416 | B5: =A5+1 -> 44417 | C5: =B5+1 -> 44418 | D5: =C5+1 -> 44419 | E5: =D5+1 -> 44420 | F5: =E5+1 -> 44421 | G5: =F5+1 -> 44422
A7: =G5+1 -> 44423 | B7: =A7+1 -> 44424 | C7: =B7+1 -> 44425 | D7: =C7+1 -> 44426 | E7: =D7+1 -> 44427 | F7: =E7+1 -> 44428 | G7: =F7+1 -> 44429
A9: =G7+1 -> 44430 | B9: =A9+1 -> 44431 | C9: =B9+1 -> 44432 | D9: =C9+1 -> 44433 | E9: =D9+1 -> 44434 | F9: =E9+1 -> 44435 | G9: =F9+1 -> 44436
A11: =G9+1 -> 44437 | B11: =A11+1 -> 44438 | C11: =B11+1 -> 44439 | D11: =C11+1 -> 44440 | E11: =D11+1 -> 44441 | F11: =E11+1 -> 44442 | G11: =F11+1 -> 44443
G14: 1
G15: 2
G16: 3
G17: 4
G18: 5
G19: 6
G20: 7
G21: 8
G22: 9
G23: 10
G24: 11
G25: 12
A29: 日々の記録
A31: 日付 | B31: 項目 | C31: 金額 | D31: 支払方法 | E31: カード請求 | F31: 状況
K32: 固定費 | N32: 住宅費
K33: 項目 | L33: 金額 | N33: 光熱水費
K34: 住宅費 | L34: =SUMIF($B$32:$C$128,K34,$C$32:$C$128) -> 0 | N34: 通信費
K35: 光熱水費 | L35: =SUMIF($B$32:$C$128,K35,$C$32:$C$128) -> 0 | N35: 教育費
K36: 通信費 | L36: =SUMIF($B$32:$C$128,K36,$C$32:$C$128) -> 0 | N36: 保険料
K37: 教育費 | L37: =SUMIF($B$32:$C$128,K37,$C$32:$C$128) -> 0 | N37: その他・月額料金
K38: 保険料 | L38: =SUMIF($B$32:$C$128,K38,$C$32:$C$128) -> 0 | N38: 食費
K39: その他・月額料金 | L39: =SUMIF($B$32:$C$128,K39,$C$32:$C$128) -> 0 | N39: 日用品費・日用雑費
K40: 合計 | L40: =SUM(L34:L39) -> 0 | N40: 交際費・レジャー費
N41: 交通費
K42: 変動費 | N42: 医療費
K43: 項目 | L43: 金額 | N43: 被服費
K44: 食費 | L44: =SUMIF($B$32:$G$128,K44,$C$32:$C$128) -> 0 | N44: 趣味・娯楽費
K45: 日用品費・日用雑費 | L45: =SUMIF($B$32:$G$128,K45,$C$32:$C$128) -> 0
K46: 交際費・レジャー費 | L46: =SUMIF($B$32:$G$128,K46,$C$32:$C$128) -> 0
K47: 交通費 | L47: =SUMIF($B$32:$G$128,K47,$C$32:$C$128) -> 0
K48: 医療費 | L48: =SUMIF($B$32:$G$128,K48,$C$32:$C$128) -> 0
K49: 被服費 | L49: =SUMIF($B$32:$G$128,K49,$C$32:$C$128) -> 0
K50: 趣味・娯楽費 | L50: =SUMIF($B$32:$G$128,K50,$C$32:$C$128) -> 0
...

Sheet 9
A1: 2021 | B1: 年 | C1: 9 | D1: 月 | E1: =DATE(A1,C1,1) -> 44440 | F1: =WEEKDAY(E1,1) -> 4
A2: 日 | B2: 月 | C2: 火 | D2: 水 | E2: 木 | F2: 金 | G2: 土
A3: =E1-(F1-1) -> 44437 | B3: =A3+1 -> 44438 | C3: =B3+1 -> 44439 | D3: =C3+1 -> 44440 | E3: =D3+1 -> 44441 | F3: =E3+1 -> 44442 | G3: =F3+1 -> 44443
A5: =G3+1 -> 44444 | B5: =A5+1 -> 44445 | C5: =B5+1 -> 44446 | D5: =C5+1 -> 44447 | E5: =D5+1 -> 44448 | F5: =E5+1 -> 44449 | G5: =F5+1 -> 44450
A7: =G5+1 -> 44451 | B7: =A7+1 -> 44452 | C7: =B7+1 -> 44453 | D7: =C7+1 -> 44454 | E7: =D7+1 -> 44455 | F7: =E7+1 -> 44456 | G7: =F7+1 -> 44457
A9: =G7+1 -> 44458 | B9: =A9+1 -> 44459 | C9: =B9+1 -> 44460 | D9: =C9+1 -> 44461 | E9: =D9+1 -> 44462 | F9: =E9+1 -> 44463 | G9: =F9+1 -> 44464
A11: =G9+1 -> 44465 | B11: =A11+1 -> 44466 | C11: =B11+1 -> 44467 | D11: =C11+1 -> 44468 | E11: =D11+1 -> 44469 | F11: =E11+1 -> 44470 | G11: =F11+1 -> 44471
G14: 1
G15: 2
G16: 3
G17: 4
G18: 5
G19: 6
G20: 7
G21: 8
G22: 9
G23: 10
G24: 11
G25: 12
A29: 日々の記録
A31: 日付 | B31: 項目 | C31: 金額 | D31: 支払方法 | E31: カード請求 | F31: 状況
K32: 固定費 | N32: 住宅費
K33: 項目 | L33: 金額 | N33: 光熱水費
K34: 住宅費 | L34: =SUMIF($B$32:$C$128,K34,$C$32:$C$128) -> 0 | N34: 通信費
K35: 光熱水費 | L35: =SUMIF($B$32:$C$128,K35,$C$32:$C$128) -> 0 | N35: 教育費
K36: 通信費 | L36: =SUMIF($B$32:$C$128,K36,$C$32:$C$128) -> 0 | N36: 保険料
K37: 教育費 | L37: =SUMIF($B$32:$C$128,K37,$C$32:$C$128) -> 0 | N37: その他・月額料金
K38: 保険料 | L38: =SUMIF($B$32:$C$128,K38,$C$32:$C$128) -> 0 | N38: 食費
K39: その他・月額料金 | L39: =SUMIF($B$32:$C$128,K39,$C$32:$C$128) -> 0 | N39: 日用品費・日用雑費
K40: 合計 | L40: =SUM(L34:L39) -> 0 | N40: 交際費・レジャー費
N41: 交通費
K42: 変動費 | N42: 医療費
K43: 項目 | L43: 金額 | N43: 被服費
K44: 食費 | L44: =SUMIF($B$32:$G$128,K44,$C$32:$C$128) -> 0 | N44: 趣味・娯楽費
K45: 日用品費・日用雑費 | L45: =SUMIF($B$32:$G$128,K45,$C$32:$C$128) -> 0
K46: 交際費・レジャー費 | L46: =SUMIF($B$32:$G$128,K46,$C$32:$C$128) -> 0
K47: 交通費 | L47: =SUMIF($B$32:$G$128,K47,$C$32:$C$128) -> 0
K48: 医療費 | L48: =SUMIF($B$32:$G$128,K48,$C$32:$C$128) -> 0
K49: 被服費 | L49: =SUMIF($B$32:$G$128,K49,$C$32:$C$128) -> 0
K50: 趣味・娯楽費 | L50: =SUMIF($B$32:$G$128,K50,$C$32:$C$128) -> 0
...

Sheet 10
A1: 2021 | B1: 年 | C1: 9 | D1: 月 | E1: =DATE(A1,C1,1) -> 44440 | F1: =WEEKDAY(E1,1) -> 4
A2: 日 | B2: 月 | C2: 火 | D2: 水 | E2: 木 | F2: 金 | G2: 土
A3: =E1-(F1-1) -> 44437 | B3: =A3+1 -> 44438 | C3: =B3+1 -> 44439 | D3: =C3+1 -> 44440 | E3: =D3+1 -> 44441 | F3: =E3+1 -> 44442 | G3: =F3+1 -> 44443
A5: =G3+1 -> 44444 | B5: =A5+1 -> 44445 | C5: =B5+1 -> 44446 | D5: =C5+1 -> 44447 | E5: =D5+1 -> 44448 | F5: =E5+1 -> 44449 | G5: =F5+1 -> 44450
A7: =G5+1 -> 44451 | B7: =A7+1 -> 44452 | C7: =B7+1 -> 44453 | D7: =C7+1 -> 44454 | E7: =D7+1 -> 44455 | F7: =E7+1 -> 44456 | G7: =F7+1 -> 44457
A9: =G7+1 -> 44458 | B9: =A9+1 -> 44459 | C9: =B9+1 -> 44460 | D9: =C9+1 -> 44461 | E9: =D9+1 -> 44462 | F9: =E9+1 -> 44463 | G9: =F9+1 -> 44464
A11: =G9+1 -> 44465 | B11: =A11+1 -> 44466 | C11: =B11+1 -> 44467 | D11: =C11+1 -> 44468 | E11: =D11+1 -> 44469 | F11: =E11+1 -> 44470 | G11: =F11+1 -> 44471
G14: 1
G15: 2
G16: 3
G17: 4
G18: 5
G19: 6
G20: 7
G21: 8
G22: 9
G23: 10
G24: 11
G25: 12
A29: 日々の記録
A31: 日付 | B31: 項目 | C31: 金額 | D31: 支払方法 | E31: カード請求 | F31: 状況
K32: 固定費 | N32: 住宅費
K33: 項目 | L33: 金額 | N33: 光熱水費
K34: 住宅費 | L34: =SUMIF($B$32:$C$128,K34,$C$32:$C$128) -> 0 | N34: 通信費
K35: 光熱水費 | L35: =SUMIF($B$32:$C$128,K35,$C$32:$C$128) -> 0 | N35: 教育費
K36: 通信費 | L36: =SUMIF($B$32:$C$128,K36,$C$32:$C$128) -> 0 | N36: 保険料
K37: 教育費 | L37: =SUMIF($B$32:$C$128,K37,$C$32:$C$128) -> 0 | N37: その他・月額料金
K38: 保険料 | L38: =SUMIF($B$32:$C$128,K38,$C$32:$C$128) -> 0 | N38: 食費
K39: その他・月額料金 | L39: =SUMIF($B$32:$C$128,K39,$C$32:$C$128) -> 0 | N39: 日用品費・日用雑費
K40: 合計 | L40: =SUM(L34:L39) -> 0 | N40: 交際費・レジャー費
N41: 交通費
K42: 変動費 | N42: 医療費
K43: 項目 | L43: 金額 | N43: 被服費
K44: 食費 | L44: =SUMIF($B$32:$G$128,K44,$C$32:$C$128) -> 0 | N44: 趣味・娯楽費
K45: 日用品費・日用雑費 | L45: =SUMIF($B$32:$G$128,K45,$C$32:$C$128) -> 0
K46: 交際費・レジャー費 | L46: =SUMIF($B$32:$G$128,K46,$C$32:$C$128) -> 0
K47: 交通費 | L47: =SUMIF($B$32:$G$128,K47,$C$32:$C$128) -> 0
K48: 医療費 | L48: =SUMIF($B$32:$G$128,K48,$C$32:$C$128) -> 0
K49: 被服費 | L49: =SUMIF($B$32:$G$128,K49,$C$32:$C$128) -> 0
K50: 趣味・娯楽費 | L50: =SUMIF($B$32:$G$128,K50,$C$32:$C$128) -> 0
...

Sheet 11
A1: 2021 | B1: 年 | C1: 11 | D1: 月 | E1: =DATE(A1,C1,1) -> 44501 | F1: =WEEKDAY(E1,1) -> 2
A2: 日 | B2: 月 | C2: 火 | D2: 水 | E2: 木 | F2: 金 | G2: 土
A3: =E1-(F1-1) -> 44500 | B3: =A3+1 -> 44501 | C3: =B3+1 -> 44502 | D3: =C3+1 -> 44503 | E3: =D3+1 -> 44504 | F3: =E3+1 -> 44505 | G3: =F3+1 -> 44506
A5: =G3+1 -> 44507 | B5: =A5+1 -> 44508 | C5: =B5+1 -> 44509 | D5: =C5+1 -> 44510 | E5: =D5+1 -> 44511 | F5: =E5+1 -> 44512 | G5: =F5+1 -> 44513
A7: =G5+1 -> 44514 | B7: =A7+1 -> 44515 | C7: =B7+1 -> 44516 | D7: =C7+1 -> 44517 | E7: =D7+1 -> 44518 | F7: =E7+1 -> 44519 | G7: =F7+1 -> 44520
A9: =G7+1 -> 44521 | B9: =A9+1 -> 44522 | C9: =B9+1 -> 44523 | D9: =C9+1 -> 44524 | E9: =D9+1 -> 44525 | F9: =E9+1 -> 44526 | G9: =F9+1 -> 44527
A11: =G9+1 -> 44528 | B11: =A11+1 -> 44529 | C11: =B11+1 -> 44530 | D11: =C11+1 -> 44531 | E11: =D11+1 -> 44532 | F11: =E11+1 -> 44533 | G11: =F11+1 -> 44534
G14: 1
G15: 2
G16: 3
G17: 4
G18: 5
G19: 6
G20: 7
G21: 8
G22: 9
G23: 10
G24: 11
G25: 12
A29: 日々の記録
A31: 日付 | B31: 項目 | C31: 金額 | D31: 支払方法 | E31: カード請求 | F31: 状況
K32: 固定費 | N32: 住宅費
K33: 項目 | L33: 金額 | N33: 光熱水費
K34: 住宅費 | L34: =SUMIF($B$32:$C$128,K34,$C$32:$C$128) -> 0 | N34: 通信費
K35: 光熱水費 | L35: =SUMIF($B$32:$C$128,K35,$C$32:$C$128) -> 0 | N35: 教育費
K36: 通信費 | L36: =SUMIF($B$32:$C$128,K36,$C$32:$C$128) -> 0 | N36: 保険料
K37: 教育費 | L37: =SUMIF($B$32:$C$128,K37,$C$32:$C$128) -> 0 | N37: その他・月額料金
K38: 保険料 | L38: =SUMIF($B$32:$C$128,K38,$C$32:$C$128) -> 0 | N38: 食費
K39: その他・月額料金 | L39: =SUMIF($B$32:$C$128,K39,$C$32:$C$128) -> 0 | N39: 日用品費・日用雑費
K40: 合計 | L40: =SUM(L34:L39) -> 0 | N40: 交際費・レジャー費
N41: 交通費
K42: 変動費 | N42: 医療費
K43: 項目 | L43: 金額 | N43: 被服費
K44: 食費 | L44: =SUMIF($B$32:$G$128,K44,$C$32:$C$128) -> 0 | N44: 趣味・娯楽費
K45: 日用品費・日用雑費 | L45: =SUMIF($B$32:$G$128,K45,$C$32:$C$128) -> 0
K46: 交際費・レジャー費 | L46: =SUMIF($B$32:$G$128,K46,$C$32:$C$128) -> 0
K47: 交通費 | L47: =SUMIF($B$32:$G$128,K47,$C$32:$C$128) -> 0
K48: 医療費 | L48: =SUMIF($B$32:$G$128,K48,$C$32:$C$128) -> 0
K49: 被服費 | L49: =SUMIF($B$32:$G$128,K49,$C$32:$C$128) -> 0
K50: 趣味・娯楽費 | L50: =SUMIF($B$32:$G$128,K50,$C$32:$C$128) -> 0
...

Sheet 12
A1: 2021 | B1: 年 | C1: 12 | D1: 月 | E1: =DATE(A1,C1,1) -> 44531 | F1: =WEEKDAY(E1,1) -> 4
A2: 日 | B2: 月 | C2: 火 | D2: 水 | E2: 木 | F2: 金 | G2: 土
A3: =E1-(F1-1) -> 44528 | B3: =A3+1 -> 44529 | C3: =B3+1 -> 44530 | D3: =C3+1 -> 44531 | E3: =D3+1 -> 44532 | F3: =E3+1 -> 44533 | G3: =F3+1 -> 44534
A5: =G3+1 -> 44535 | B5: =A5+1 -> 44536 | C5: =B5+1 -> 44537 | D5: =C5+1 -> 44538 | E5: =D5+1 -> 44539 | F5: =E5+1 -> 44540 | G5: =F5+1 -> 44541
A7: =G5+1 -> 44542 | B7: =A7+1 -> 44543 | C7: =B7+1 -> 44544 | D7: =C7+1 -> 44545 | E7: =D7+1 -> 44546 | F7: =E7+1 -> 44547 | G7: =F7+1 -> 44548
A9: =G7+1 -> 44549 | B9: =A9+1 -> 44550 | C9: =B9+1 -> 44551 | D9: =C9+1 -> 44552 | E9: =D9+1 -> 44553 | F9: =E9+1 -> 44554 | G9: =F9+1 -> 44555
A11: =G9+1 -> 44556 | B11: =A11+1 -> 44557 | C11: =B11+1 -> 44558 | D11: =C11+1 -> 44559 | E11: =D11+1 -> 44560 | F11: =E11+1 -> 44561 | G11: =F11+1 -> 44562
G14: 1
G15: 2
G16: 3
G17: 4
G18: 5
G19: 6
G20: 7
G21: 8
G22: 9
G23: 10
G24: 11
G25: 12
A29: 日々の記録
A31: 日付 | B31: 項目 | C31: 金額 | D31: 支払方法 | E31: カード請求 | F31: 状況
K32: 固定費 | N32: 住宅費
K33: 項目 | L33: 金額 | N33: 光熱水費
K34: 住宅費 | L34: =SUMIF($B$32:$C$128,K34,$C$32:$C$128) -> 0 | N34: 通信費
K35: 光熱水費 | L35: =SUMIF($B$32:$C$128,K35,$C$32:$C$128) -> 0 | N35: 教育費
K36: 通信費 | L36: =SUMIF($B$32:$C$128,K36,$C$32:$C$128) -> 0 | N36: 保険料
K37: 教育費 | L37: =SUMIF($B$32:$C$128,K37,$C$32:$C$128) -> 0 | N37: その他・月額料金
K38: 保険料 | L38: =SUMIF($B$32:$C$128,K38,$C$32:$C$128) -> 0 | N38: 食費
K39: その他・月額料金 | L39: =SUMIF($B$32:$C$128,K39,$C$32:$C$128) -> 0 | N39: 日用品費・日用雑費
K40: 合計 | L40: =SUM(L34:L39) -> 0 | N40: 交際費・レジャー費
N41: 交通費
K42: 変動費 | N42: 医療費
K43: 項目 | L43: 金額 | N43: 被服費
K44: 食費 | L44: =SUMIF($B$32:$G$128,K44,$C$32:$C$128) -> 0 | N44: 趣味・娯楽費
K45: 日用品費・日用雑費 | L45: =SUMIF($B$32:$G$128,K45,$C$32:$C$128) -> 0
K46: 交際費・レジャー費 | L46: =SUMIF($B$32:$G$128,K46,$C$32:$C$128) -> 0
K47: 交通費 | L47: =SUMIF($B$32:$G$128,K47,$C$32:$C$128) -> 0
K48: 医療費 | L48: =SUMIF($B$32:$G$128,K48,$C$32:$C$128) -> 0
K49: 被服費 | L49: =SUMIF($B$32:$G$128,K49,$C$32:$C$128) -> 0
K50: 趣味・娯楽費 | L50: =SUMIF($B$32:$G$128,K50,$C$32:$C$128) -> 0
...
